BEGIN:VCALENDAR
VERSION:2.0
BEGIN:VEVENT
UID:5FA7B485-7F6D-482A-A5FB-262721BC9F33
DTSTART:20221022T140000Z
DTEND:20221022T170000Z
SUMMARY:Klyde Warren Park's 10th Birthday Party
DESCRIPTION:Celebrate Klyde Warren Park’s 10th birthday on October 22! List
 en to live music from Emerald City Band\, play games on the lawn and enjoy
  the activities and features that make this urban park Dallas' town square
 . You might even find some birthday cake!\nKlyde Warren Park\n2012 Woodall
  Rodgers Freeway\nDallas\, TX 75201 United States\n
LOCATION:2012 Woodall Rodgers Freeway\, Dallas\, TX 75201
URL:http://lakewood.bubblelife.com/community/lakewood_calendar/library/3560
 794/key/3511671350/Klyde_Warren_Parks_10th_Birthday_Party
CREATED:20221017T164627Z
LAST-MODIFIED:20221017T164627Z
DTSTAMP:20260421T132811Z
CLASS:PUBLIC
STATUS:CONFIRMED
TRANSP:TRANSPARENT
SEQUENCE:1
END:VEVENT
END:VCALENDAR
