BEGIN:VCALENDAR
VERSION:2.0
BEGIN:VEVENT
UID:F6ED41BA-26F6-446B-9169-EDB23D36D990
DTSTART:20231104T190000Z
DTEND:20231104T220000Z
SUMMARY:Jazz Under the Stars Presented by RNDC
DESCRIPTION:This fall\, Klyde Warren Park presents “Jazz Under the Stars Pr
 esented by Republic National Distributing Company (RNDC)\,” an extraordina
 ry evening of music\, community and creativity. Showcasing three versions
  of innovative and original jazz music on the Muse Family Performance Pavi
 lion\, this FREE event brings back the vibe of the Dallas Museum of Art’s
  wildly popular Jazz Under the Stars series. Artists include:  \n   \n•  C
 armen Bradford  – Grammy nominated lead vocalist for Count Basie Orchestra
  (big band swing with 17-piece band) \n•  Ephraim Owens Quintet  – Native-
 born Dallas trumpet sensation and touring member of Tedeschi Trucks Band (
 cool jazz with five-piece band) \n•  John Mills TIMES TEN  – Professor of
  jazz composition at UT and touring professional (fusion jazz with 10-piec
 e band) \n   \nRNDC has curated a selection of wines and spirits to comple
 ment the distinctive and improvisational melodies. Blanket seating is enco
 uraged for picnics\, and plenty of Klyde Warren Park food trucks will be a
 vailable for dinner. Wine and spirits may be sampled for free\, while bars
  are available for beverage purchase. \n   \n VIP tickets  are $50 each an
 d include complimentary wine\, beer and la Madeleine hors d’oeuvres .  All
  proceeds benefit Klyde Warren Park\, a 501(c)(3) nonprofit privately oper
 ated and funded by the Woodall Rodgers Park Foundation. \n   \nEvent is ra
 in or shine and tickets are non-refundable.\nKlyde Warren Park\n2012 Wooda
 ll Rodgers Freeway\nDallas\, TX 75201 United States\n
LOCATION:2012 Woodall Rodgers Freeway\, Dallas\, TX 75201
URL:http://lakewood.bubblelife.com/community/lakewood_calendar/library/3560
 794/key/3511061594/Jazz_Under_the_Stars_Presented_by_RNDC
CREATED:20231004T201032Z
LAST-MODIFIED:20231004T201032Z
DTSTAMP:20260421T132811Z
CLASS:PUBLIC
STATUS:CONFIRMED
TRANSP:TRANSPARENT
SEQUENCE:1
END:VEVENT
END:VCALENDAR
